BEGIN:VCALENDAR
VERSION:2.0
PRODID:spatie/icalendar-generator
DESCRIPTION:Events from 
X-WR-CALDESC:Events from 
REFRESH-INTERVAL;VALUE=DURATION:PT1440M
X-PUBLISHED-TTL:PT1440M
BEGIN:VTIMEZONE
TZID:Etc/GMT+0
BEGIN:STANDARD
DTSTART:20250922T000000Z
TZOFFSETFROM:+0000
TZOFFSETTO:+0000
END:STANDARD
END:VTIMEZONE
BEGIN:VTIMEZONE
TZID:UTC
BEGIN:STANDARD
DTSTART:20250725T124459Z
TZOFFSETFROM:+0000
TZOFFSETTO:+0000
END:STANDARD
END:VTIMEZONE
BEGIN:VEVENT
UID:37-32
DTSTAMP:20260421T124459Z
SUMMARY:Peregrinação da Liga dos Combatentes e Forças de Segurança – 
 Dia 19jun (Fátima)
LOCATION:
ORGANIZER;CN=v0ml7:MAILTO:luis.desiderio.ferreira@protonmail.com
DTSTART;TZID=Etc/GMT+0;VALUE=DATE:20260619
DTEND;TZID=Etc/GMT+0;VALUE=DATE:20260620
X-ALT-DESC;FMTTYPE=TEXT/HTML:
CATEGORIES:Eventos
URL;VALUE=URI:https://nucleocaldasdarainha.org/mc-events/peregrinacao-da-li
 ga-dos-combatentes-e-forcas-de-seguranca-dia-19jun-fatima/
METHOD:PUBLISH
END:VEVENT
END:VCALENDAR