BEGIN:VCALENDAR
VERSION:2.0
PRODID:spatie/icalendar-generator
DESCRIPTION:Events from 
X-WR-CALDESC:Events from 
REFRESH-INTERVAL;VALUE=DURATION:PT1440M
X-PUBLISHED-TTL:PT1440M
BEGIN:VTIMEZONE
TZID:Etc/GMT+0
BEGIN:STANDARD
DTSTART:20251001T000000Z
TZOFFSETFROM:+0000
TZOFFSETTO:+0000
END:STANDARD
END:VTIMEZONE
BEGIN:VTIMEZONE
TZID:UTC
BEGIN:STANDARD
DTSTART:20250725T090615Z
TZOFFSETFROM:+0000
TZOFFSETTO:+0000
END:STANDARD
END:VTIMEZONE
BEGIN:VEVENT
UID:38-33
DTSTAMP:20260421T090615Z
SUMMARY:Convívio de Verão dos Combatentes do Oeste – 28jun (Alcobaça)
LOCATION:
ORGANIZER;CN=v0ml7:MAILTO:luis.desiderio.ferreira@protonmail.com
DTSTART;TZID=Etc/GMT+0;VALUE=DATE:20260628
DTEND;TZID=Etc/GMT+0;VALUE=DATE:20260629
X-ALT-DESC;FMTTYPE=TEXT/HTML:
CATEGORIES:Eventos
URL;VALUE=URI:https://nucleocaldasdarainha.org/mc-events/convivio-de-verao-
 dos-combatentes-do-oeste-28jun-alcobaca/
METHOD:PUBLISH
END:VEVENT
END:VCALENDAR