BEGIN:VCALENDAR
VERSION:2.0
PRODID:spatie/icalendar-generator
DESCRIPTION:Events from 
X-WR-CALDESC:Events from 
REFRESH-INTERVAL;VALUE=DURATION:PT1440M
X-PUBLISHED-TTL:PT1440M
BEGIN:VTIMEZONE
TZID:Etc/GMT+0
BEGIN:STANDARD
DTSTART:20250106T000000Z
TZOFFSETFROM:+0000
TZOFFSETTO:+0000
END:STANDARD
END:VTIMEZONE
BEGIN:VTIMEZONE
TZID:UTC
BEGIN:STANDARD
DTSTART:20250725T090216Z
TZOFFSETFROM:+0000
TZOFFSETTO:+0000
END:STANDARD
END:VTIMEZONE
BEGIN:VEVENT
UID:18-18
DTSTAMP:20260421T090216Z
SUMMARY:Feira Militaris II - Expoeste
LOCATION:Expoeste - Caldas da Rainha
ORGANIZER;CN=v0ml7:MAILTO:luis.desiderio.ferreira@protonmail.com
DTSTART;TZID=Etc/GMT+0;VALUE=DATE:20251003
DTEND;TZID=Etc/GMT+0;VALUE=DATE:20251005
X-ALT-DESC;FMTTYPE=TEXT/HTML:Participação com Stand
CATEGORIES:Eventos
URL;VALUE=URI:https://nucleocaldasdarainha.org/mc-events/feira-militaris-ii
 -expoeste/
METHOD:PUBLISH
END:VEVENT
END:VCALENDAR